Package: siggenes Version: 1.80.0 Command: /Library/Frameworks/R.framework/Resources/bin/R CMD INSTALL siggenes StartedAt: 2025-03-31 16:16:57 -0400 (Mon, 31 Mar 2025) EndedAt: 2025-03-31 16:17:24 -0400 (Mon, 31 Mar 2025) EllapsedTime: 26.7 seconds RetCode: 0 Status: OK