Package: siggenes Version: 1.80.0 Command: /Library/Frameworks/R.framework/Resources/bin/R CMD build --keep-empty-dirs --no-resave-data siggenes StartedAt: 2025-03-31 22:03:49 -0400 (Mon, 31 Mar 2025) EndedAt: 2025-03-31 22:04:49 -0400 (Mon, 31 Mar 2025) EllapsedTime: 59.6 seconds RetCode: 0 Status: OK PackageFile: siggenes_1.80.0.tar.gz PackageFileSize: 744.8 KiB