Package: siggenes Version: 1.80.0 Command: rm -rf siggenes.buildbin-libdir && mkdir siggenes.buildbin-libdir && /Users/biocbuild/BBS/utils/build-universal.sh siggenes_1.80.0.tar.gz /Library/Frameworks/R.framework/Resources/bin/R siggenes.buildbin-libdir StartedAt: 2024-11-20 04:51:48 -0500 (Wed, 20 Nov 2024) EndedAt: 2024-11-20 04:52:09 -0500 (Wed, 20 Nov 2024) EllapsedTime: 20.4 seconds RetCode: 0 Status: OK PackageFile: siggenes_1.80.0.tgz PackageFileSize: 1.218 MiB