Package: siggenes Version: 1.80.0 Command: /Library/Frameworks/R.framework/Resources/bin/R CMD INSTALL siggenes StartedAt: 2024-11-08 15:41:28 -0500 (Fri, 08 Nov 2024) EndedAt: 2024-11-08 15:41:33 -0500 (Fri, 08 Nov 2024) EllapsedTime: 5.1 seconds RetCode: 0 Status: OK