Package: siggenes Version: 1.80.0 Command: /Library/Frameworks/R.framework/Resources/bin/R CMD INSTALL siggenes StartedAt: 2025-01-27 17:31:22 -0500 (Mon, 27 Jan 2025) EndedAt: 2025-01-27 17:31:36 -0500 (Mon, 27 Jan 2025) EllapsedTime: 13.6 seconds RetCode: 0 Status: OK