Package: sigFeature Version: 1.24.0 Command: F:\biocbuild\bbs-3.20-bioc\R\bin\R.exe CMD INSTALL sigFeature StartedAt: 2025-03-31 16:58:32 -0400 (Mon, 31 Mar 2025) EndedAt: 2025-03-31 16:59:07 -0400 (Mon, 31 Mar 2025) EllapsedTime: 35.1 seconds RetCode: 0 Status: OK