Package: sigFeature Version: 1.24.0 Command: chmod a+r sigFeature -R && F:\biocbuild\bbs-3.20-bioc\R\bin\R.exe CMD build --keep-empty-dirs --no-resave-data sigFeature StartedAt: 2025-03-31 21:56:11 -0400 (Mon, 31 Mar 2025) EndedAt: 2025-03-31 21:57:03 -0400 (Mon, 31 Mar 2025) EllapsedTime: 52.5 seconds RetCode: 0 Status: OK PackageFile: sigFeature_1.24.0.tar.gz PackageFileSize: 263.8 KiB