Package: sigFeature Version: 1.24.0 Command: rm -rf sigFeature.buildbin-libdir && mkdir sigFeature.buildbin-libdir && F:\biocbuild\bbs-3.20-bioc\R\bin\R.exe CMD INSTALL --build --library=sigFeature.buildbin-libdir sigFeature_1.24.0.tar.gz StartedAt: 2025-04-01 09:13:42 -0400 (Tue, 01 Apr 2025) EndedAt: 2025-04-01 09:14:30 -0400 (Tue, 01 Apr 2025) EllapsedTime: 48.4 seconds RetCode: 0 Status: OK PackageFile: sigFeature_1.24.0.zip PackageFileSize: 400.6 KiB