Package: sigFeature Version: 1.24.0 Command: /Library/Frameworks/R.framework/Resources/bin/R CMD check --install=check:sigFeature.install-out.txt --library=/Library/Frameworks/R.framework/Resources/library --no-vignettes --timings sigFeature_1.24.0.tar.gz StartedAt: 2025-04-02 08:48:58 -0400 (Wed, 02 Apr 2025) EndedAt: 2025-04-02 08:52:34 -0400 (Wed, 02 Apr 2025) EllapsedTime: 215.8 seconds RetCode: 0 Status: WARNINGS CheckDir: sigFeature.Rcheck Warnings: 1