Package: sigFeature Version: 1.24.0 Command: rm -rf sigFeature.buildbin-libdir && mkdir sigFeature.buildbin-libdir && /Users/biocbuild/BBS/utils/build-universal.sh sigFeature_1.24.0.tar.gz /Library/Frameworks/R.framework/Resources/bin/R sigFeature.buildbin-libdir StartedAt: 2025-04-02 16:21:17 -0400 (Wed, 02 Apr 2025) EndedAt: 2025-04-02 16:21:50 -0400 (Wed, 02 Apr 2025) EllapsedTime: 33.0 seconds RetCode: 0 Status: OK PackageFile: sigFeature_1.24.0.tgz PackageFileSize: 502.3 KiB