Package: shinyepico Version: 1.14.0 Command: F:\biocbuild\bbs-3.20-bioc\R\bin\R.exe CMD check --no-multiarch --install=check:shinyepico.install-out.txt --library=F:\biocbuild\bbs-3.20-bioc\R\library --no-vignettes --timings shinyepico_1.14.0.tar.gz StartedAt: 2025-01-28 05:57:20 -0500 (Tue, 28 Jan 2025) EndedAt: 2025-01-28 06:01:43 -0500 (Tue, 28 Jan 2025) EllapsedTime: 263.8 seconds RetCode: 0 Status: OK CheckDir: shinyepico.Rcheck Warnings: 0