Package: shinyepico Version: 1.14.0 Command: /home/biocbuild/bbs-3.20-bioc/R/bin/R CMD INSTALL shinyepico StartedAt: 2025-02-03 16:05:35 -0500 (Mon, 03 Feb 2025) EndedAt: 2025-02-03 16:05:40 -0500 (Mon, 03 Feb 2025) EllapsedTime: 5.1 seconds RetCode: 0 Status: OK