Package: shinyepico Version: 1.14.0 Command: /Library/Frameworks/R.framework/Resources/bin/R CMD check --install=check:shinyepico.install-out.txt --library=/Library/Frameworks/R.framework/Resources/library --no-vignettes --timings shinyepico_1.14.0.tar.gz StartedAt: 2025-04-02 08:43:16 -0400 (Wed, 02 Apr 2025) EndedAt: 2025-04-02 08:47:10 -0400 (Wed, 02 Apr 2025) EllapsedTime: 234.3 seconds RetCode: 0 Status: OK CheckDir: shinyepico.Rcheck Warnings: 0