Package: shinyMethyl Version: 1.42.0 Command: /home/biocbuild/R/R/bin/R CMD INSTALL shinyMethyl StartedAt: 2025-01-27 22:03:15 -0000 (Mon, 27 Jan 2025) EndedAt: 2025-01-27 22:04:11 -0000 (Mon, 27 Jan 2025) EllapsedTime: 56.7 seconds RetCode: 0 Status: OK