Package: shinyMethyl Version: 1.42.0 Command: /home/biocbuild/bbs-3.20-bioc/R/bin/R CMD check --install=check:shinyMethyl.install-out.txt --library=/home/biocbuild/bbs-3.20-bioc/R/site-library --timings shinyMethyl_1.42.0.tar.gz StartedAt: 2025-04-01 02:14:17 -0400 (Tue, 01 Apr 2025) EndedAt: 2025-04-01 02:19:56 -0400 (Tue, 01 Apr 2025) EllapsedTime: 339.4 seconds RetCode: 0 Status: OK CheckDir: shinyMethyl.Rcheck Warnings: 0