Package: shinyMethyl Version: 1.42.0 Command: /home/biocbuild/bbs-3.20-bioc/R/bin/R CMD build --keep-empty-dirs --no-resave-data --md5 shinyMethyl StartedAt: 2025-01-27 20:05:13 -0500 (Mon, 27 Jan 2025) EndedAt: 2025-01-27 20:06:18 -0500 (Mon, 27 Jan 2025) EllapsedTime: 65.1 seconds RetCode: 0 Status: OK PackageFile: shinyMethyl_1.42.0.tar.gz PackageFileSize: 7.244 MiB