Package: shinyMethyl Version: 1.42.0 Command: /Library/Frameworks/R.framework/Resources/bin/R CMD build --keep-empty-dirs --no-resave-data shinyMethyl StartedAt: 2025-03-31 22:02:45 -0400 (Mon, 31 Mar 2025) EndedAt: 2025-03-31 22:05:00 -0400 (Mon, 31 Mar 2025) EllapsedTime: 135.6 seconds RetCode: 0 Status: OK PackageFile: shinyMethyl_1.42.0.tar.gz PackageFileSize: 7.24 MiB