Package: shinyMethyl Version: 1.42.0 Command: /Library/Frameworks/R.framework/Resources/bin/R CMD check --install=check:shinyMethyl.install-out.txt --library=/Library/Frameworks/R.framework/Resources/library --no-vignettes --timings shinyMethyl_1.42.0.tar.gz StartedAt: 2025-01-29 09:04:58 -0500 (Wed, 29 Jan 2025) EndedAt: 2025-01-29 09:11:42 -0500 (Wed, 29 Jan 2025) EllapsedTime: 404.0 seconds RetCode: 0 Status: OK CheckDir: shinyMethyl.Rcheck Warnings: 0