Package: shiny.gosling Version: 1.2.0 Command: /home/biocbuild/R/R/bin/R CMD build --keep-empty-dirs --no-resave-data shiny.gosling StartedAt: 2025-02-04 02:58:54 -0000 (Tue, 04 Feb 2025) EndedAt: 2025-02-04 02:59:44 -0000 (Tue, 04 Feb 2025) EllapsedTime: 50.1 seconds RetCode: 0 Status: OK PackageFile: shiny.gosling_1.2.0.tar.gz PackageFileSize: 1.718 MiB