Package: shiny.gosling Version: 1.2.0 Command: F:\biocbuild\bbs-3.20-bioc\R\bin\R.exe CMD INSTALL shiny.gosling StartedAt: 2025-03-31 15:48:27 -0400 (Mon, 31 Mar 2025) EndedAt: 2025-03-31 15:48:53 -0400 (Mon, 31 Mar 2025) EllapsedTime: 25.7 seconds RetCode: 0 Status: OK