Package: shiny.gosling Version: 1.2.0 Command: chmod a+r shiny.gosling -R && F:\biocbuild\bbs-3.20-bioc\R\bin\R.exe CMD build --keep-empty-dirs --no-resave-data shiny.gosling StartedAt: 2025-03-31 21:55:12 -0400 (Mon, 31 Mar 2025) EndedAt: 2025-03-31 21:56:23 -0400 (Mon, 31 Mar 2025) EllapsedTime: 71.5 seconds RetCode: 0 Status: OK PackageFile: shiny.gosling_1.2.0.tar.gz PackageFileSize: 1.716 MiB