Package: shiny.gosling Version: 1.2.0 Command: rm -rf shiny.gosling.buildbin-libdir && mkdir shiny.gosling.buildbin-libdir && F:\biocbuild\bbs-3.20-bioc\R\bin\R.exe CMD INSTALL --build --library=shiny.gosling.buildbin-libdir shiny.gosling_1.2.0.tar.gz StartedAt: 2025-04-01 09:13:12 -0400 (Tue, 01 Apr 2025) EndedAt: 2025-04-01 09:15:26 -0400 (Tue, 01 Apr 2025) EllapsedTime: 134.2 seconds RetCode: 0 Status: OK PackageFile: shiny.gosling_1.2.0.zip PackageFileSize: 1.109 MiB