Package: shiny.gosling Version: 1.2.0 Command: /Library/Frameworks/R.framework/Resources/bin/R CMD INSTALL shiny.gosling StartedAt: 2025-01-27 16:00:43 -0500 (Mon, 27 Jan 2025) EndedAt: 2025-01-27 16:00:54 -0500 (Mon, 27 Jan 2025) EllapsedTime: 10.8 seconds RetCode: 0 Status: OK