Package: shiny.gosling Version: 1.2.0 Command: /Library/Frameworks/R.framework/Resources/bin/R CMD INSTALL shiny.gosling StartedAt: 2025-03-31 16:38:45 -0400 (Mon, 31 Mar 2025) EndedAt: 2025-03-31 16:38:49 -0400 (Mon, 31 Mar 2025) EllapsedTime: 4.4 seconds RetCode: 0 Status: OK