Package: shiny.gosling Version: 1.2.0 Command: rm -rf shiny.gosling.buildbin-libdir && mkdir shiny.gosling.buildbin-libdir && /Users/biocbuild/BBS/utils/build-universal.sh shiny.gosling_1.2.0.tar.gz /Library/Frameworks/R.framework/Resources/bin/R shiny.gosling.buildbin-libdir StartedAt: 2025-02-05 17:49:01 -0500 (Wed, 05 Feb 2025) EndedAt: 2025-02-05 17:49:07 -0500 (Wed, 05 Feb 2025) EllapsedTime: 5.6 seconds RetCode: 0 Status: OK PackageFile: shiny.gosling_1.2.0.tgz PackageFileSize: 1.081 MiB