Package: sevenbridges Version: 1.36.0 Command: /home/biocbuild/R/R/bin/R CMD build --keep-empty-dirs --no-resave-data sevenbridges StartedAt: 2025-01-28 03:21:16 -0000 (Tue, 28 Jan 2025) EndedAt: 2025-01-28 03:23:27 -0000 (Tue, 28 Jan 2025) EllapsedTime: 131.1 seconds RetCode: 0 Status: OK PackageFile: sevenbridges_1.36.0.tar.gz PackageFileSize: 5.059 MiB