Package: sevenbridges Version: 1.36.0 Command: /home/biocbuild/R/R/bin/R CMD INSTALL sevenbridges StartedAt: 2024-11-19 20:33:46 -0000 (Tue, 19 Nov 2024) EndedAt: 2024-11-19 20:34:34 -0000 (Tue, 19 Nov 2024) EllapsedTime: 47.6 seconds RetCode: 0 Status: OK