Package: sevenbridges Version: 1.36.0 Maintainer: Phil Webster MaintainerEmail: phil.webster at velsera.com git_url: https://git.bioconductor.org/packages/sevenbridges git_branch: RELEASE_3_20 git_last_commit: 7d65500 git_last_commit_date: 2024-10-29 10:03:29 -0500 (Tue, 29 Oct 2024)