Package: sevenC Version: 1.26.0 Command: rm -rf sevenC.buildbin-libdir && mkdir sevenC.buildbin-libdir && /Users/biocbuild/BBS/utils/build-universal.sh sevenC_1.26.0.tar.gz /Library/Frameworks/R.framework/Resources/bin/R sevenC.buildbin-libdir StartedAt: 2025-04-02 16:20:01 -0400 (Wed, 02 Apr 2025) EndedAt: 2025-04-02 16:20:31 -0400 (Wed, 02 Apr 2025) EllapsedTime: 30.1 seconds RetCode: 0 Status: OK PackageFile: sevenC_1.26.0.tgz PackageFileSize: 2.041 MiB