Package: seqsetvis Version: 1.26.0 Command: /home/biocbuild/bbs-3.20-bioc/R/bin/R CMD check --install=check:seqsetvis.install-out.txt --library=/home/biocbuild/bbs-3.20-bioc/R/site-library --timings seqsetvis_1.26.0.tar.gz StartedAt: 2024-11-20 09:36:51 -0500 (Wed, 20 Nov 2024) EndedAt: 2024-11-20 09:46:17 -0500 (Wed, 20 Nov 2024) EllapsedTime: 565.8 seconds RetCode: 0 Status: OK CheckDir: seqsetvis.Rcheck Warnings: 0