Package: seqsetvis Version: 1.26.0 Command: /home/biocbuild/bbs-3.20-bioc/R/bin/R CMD build --keep-empty-dirs --no-resave-data seqsetvis StartedAt: 2024-11-19 21:45:56 -0500 (Tue, 19 Nov 2024) EndedAt: 2024-11-19 21:47:21 -0500 (Tue, 19 Nov 2024) EllapsedTime: 85.9 seconds RetCode: 0 Status: OK PackageFile: seqsetvis_1.26.0.tar.gz PackageFileSize: 2.055 MiB