Package: seqsetvis Version: 1.26.0 Command: /Library/Frameworks/R.framework/Resources/bin/R CMD INSTALL seqsetvis StartedAt: 2025-02-03 16:14:12 -0500 (Mon, 03 Feb 2025) EndedAt: 2025-02-03 16:14:55 -0500 (Mon, 03 Feb 2025) EllapsedTime: 43.3 seconds RetCode: 0 Status: OK