Package: seqsetvis Version: 1.26.0 Command: /Library/Frameworks/R.framework/Resources/bin/R CMD build --keep-empty-dirs --no-resave-data seqsetvis StartedAt: 2025-01-28 07:55:48 -0500 (Tue, 28 Jan 2025) EndedAt: 2025-01-28 07:57:23 -0500 (Tue, 28 Jan 2025) EllapsedTime: 95.1 seconds RetCode: 0 Status: OK PackageFile: seqsetvis_1.26.0.tar.gz PackageFileSize: 2.062 MiB