Package: seqcombo Version: 1.28.0 Command: /home/biocbuild/R/R/bin/R CMD INSTALL seqcombo StartedAt: 2025-01-27 21:29:39 -0000 (Mon, 27 Jan 2025) EndedAt: 2025-01-27 21:29:44 -0000 (Mon, 27 Jan 2025) EllapsedTime: 4.8 seconds RetCode: 0 Status: OK