Package: seqcombo Version: 1.28.0 Command: /home/biocbuild/R/R/bin/R CMD check --install=check:seqcombo.install-out.txt --library=/home/biocbuild/R/R/site-library --no-vignettes --timings seqcombo_1.28.0.tar.gz StartedAt: 2025-02-04 11:00:15 -0000 (Tue, 04 Feb 2025) EndedAt: 2025-02-04 11:00:49 -0000 (Tue, 04 Feb 2025) EllapsedTime: 33.0 seconds RetCode: 0 Status: OK CheckDir: seqcombo.Rcheck Warnings: 0