Package: seqcombo Version: 1.28.0 Command: /home/biocbuild/bbs-3.20-bioc/R/bin/R CMD INSTALL seqcombo StartedAt: 2025-03-31 15:30:43 -0400 (Mon, 31 Mar 2025) EndedAt: 2025-03-31 15:30:47 -0400 (Mon, 31 Mar 2025) EllapsedTime: 3.8 seconds RetCode: 0 Status: OK