Package: seqTools Version: 1.40.0 Command: /Library/Frameworks/R.framework/Resources/bin/R CMD INSTALL seqTools StartedAt: 2025-03-31 15:04:03 -0400 (Mon, 31 Mar 2025) EndedAt: 2025-03-31 15:04:10 -0400 (Mon, 31 Mar 2025) EllapsedTime: 7.3 seconds RetCode: 0 Status: OK