Package: seqPattern Version: 1.38.0 Command: /home/biocbuild/R/R/bin/R CMD check --install=check:seqPattern.install-out.txt --library=/home/biocbuild/R/R/site-library --no-vignettes --timings seqPattern_1.38.0.tar.gz StartedAt: 2025-01-31 10:21:42 -0000 (Fri, 31 Jan 2025) EndedAt: 2025-01-31 10:24:00 -0000 (Fri, 31 Jan 2025) EllapsedTime: 138.1 seconds RetCode: 0 Status: OK CheckDir: seqPattern.Rcheck Warnings: 0