Package: seqPattern Version: 1.38.0 Command: /home/biocbuild/R/R/bin/R CMD build --keep-empty-dirs --no-resave-data seqPattern StartedAt: 2025-01-31 02:40:51 -0000 (Fri, 31 Jan 2025) EndedAt: 2025-01-31 02:41:29 -0000 (Fri, 31 Jan 2025) EllapsedTime: 38.1 seconds RetCode: 0 Status: OK PackageFile: seqPattern_1.38.0.tar.gz PackageFileSize: 5.358 MiB