Package: seqPattern Version: 1.38.0 Command: rm -rf seqPattern.buildbin-libdir && mkdir seqPattern.buildbin-libdir && F:\biocbuild\bbs-3.20-bioc\R\bin\R.exe CMD INSTALL --build --library=seqPattern.buildbin-libdir seqPattern_1.38.0.tar.gz StartedAt: 2025-04-01 09:12:29 -0400 (Tue, 01 Apr 2025) EndedAt: 2025-04-01 09:13:01 -0400 (Tue, 01 Apr 2025) EllapsedTime: 31.2 seconds RetCode: 0 Status: OK PackageFile: seqPattern_1.38.0.zip PackageFileSize: 3.527 MiB