Package: seqPattern Version: 1.38.0 Command: /home/biocbuild/R/R/bin/R CMD build --keep-empty-dirs --no-resave-data seqPattern StartedAt: 2024-11-20 03:55:51 -0000 (Wed, 20 Nov 2024) EndedAt: 2024-11-20 03:56:34 -0000 (Wed, 20 Nov 2024) EllapsedTime: 43.1 seconds RetCode: 0 Status: OK PackageFile: seqPattern_1.38.0.tar.gz PackageFileSize: 5.359 MiB