Package: seqLogo Version: 1.72.0 Command: /home/biocbuild/R/R/bin/R CMD build --keep-empty-dirs --no-resave-data seqLogo StartedAt: 2025-04-01 02:39:36 -0000 (Tue, 01 Apr 2025) EndedAt: 2025-04-01 02:39:45 -0000 (Tue, 01 Apr 2025) EllapsedTime: 9.0 seconds RetCode: 0 Status: OK PackageFile: seqLogo_1.72.0.tar.gz PackageFileSize: 868.1 KiB