Package: seqLogo Version: 1.72.0 Command: /home/biocbuild/bbs-3.20-bioc/R/bin/R CMD INSTALL seqLogo StartedAt: 2025-01-30 15:06:25 -0500 (Thu, 30 Jan 2025) EndedAt: 2025-01-30 15:06:40 -0500 (Thu, 30 Jan 2025) EllapsedTime: 14.9 seconds RetCode: 0 Status: OK