Package: seqLogo Version: 1.72.0 Command: /home/biocbuild/bbs-3.20-bioc/R/bin/R CMD build --keep-empty-dirs --no-resave-data --md5 seqLogo StartedAt: 2025-01-30 19:08:28 -0500 (Thu, 30 Jan 2025) EndedAt: 2025-01-30 19:08:35 -0500 (Thu, 30 Jan 2025) EllapsedTime: 7.0 seconds RetCode: 0 Status: OK PackageFile: seqLogo_1.72.0.tar.gz PackageFileSize: 919.5 KiB