Package: seqCAT Version: 1.28.0 Command: /Library/Frameworks/R.framework/Resources/bin/R CMD INSTALL seqCAT StartedAt: 2025-01-27 18:01:24 -0500 (Mon, 27 Jan 2025) EndedAt: 2025-01-27 18:02:08 -0500 (Mon, 27 Jan 2025) EllapsedTime: 44.4 seconds RetCode: 0 Status: OK