Package: seqArchRplus Version: 1.6.0 Command: /home/biocbuild/R/R/bin/R CMD INSTALL seqArchRplus StartedAt: 2025-01-27 22:02:17 -0000 (Mon, 27 Jan 2025) EndedAt: 2025-01-27 22:02:47 -0000 (Mon, 27 Jan 2025) EllapsedTime: 29.7 seconds RetCode: 0 Status: OK