Package: seqArchRplus Version: 1.6.0 Command: /home/biocbuild/bbs-3.20-bioc/R/bin/R CMD INSTALL seqArchRplus StartedAt: 2025-01-27 16:53:52 -0500 (Mon, 27 Jan 2025) EndedAt: 2025-01-27 16:54:20 -0500 (Mon, 27 Jan 2025) EllapsedTime: 28.4 seconds RetCode: 0 Status: OK