Package: seqArchRplus Version: 1.6.0 Command: /Library/Frameworks/R.framework/Resources/bin/R CMD check --install=check:seqArchRplus.install-out.txt --library=/Library/Frameworks/R.framework/Resources/library --no-vignettes --timings seqArchRplus_1.6.0.tar.gz StartedAt: 2025-01-28 10:08:57 -0500 (Tue, 28 Jan 2025) EndedAt: 2025-01-28 10:19:17 -0500 (Tue, 28 Jan 2025) EllapsedTime: 619.8 seconds RetCode: 0 Status: WARNINGS CheckDir: seqArchRplus.Rcheck Warnings: 1