Package: seqArchRplus Version: 1.6.0 Command: rm -rf seqArchRplus.buildbin-libdir && mkdir seqArchRplus.buildbin-libdir && /Users/biocbuild/BBS/utils/build-universal.sh seqArchRplus_1.6.0.tar.gz /Library/Frameworks/R.framework/Resources/bin/R seqArchRplus.buildbin-libdir StartedAt: 2025-01-28 14:33:49 -0500 (Tue, 28 Jan 2025) EndedAt: 2025-01-28 14:34:58 -0500 (Tue, 28 Jan 2025) EllapsedTime: 69.2 seconds RetCode: 0 Status: OK PackageFile: seqArchRplus_1.6.0.tgz PackageFileSize: 3.789 MiB