Package: seqArchR Version: 1.10.0 Command: /Library/Frameworks/R.framework/Resources/bin/R CMD check --install=check:seqArchR.install-out.txt --library=/Library/Frameworks/R.framework/Resources/library --no-vignettes --timings seqArchR_1.10.0.tar.gz StartedAt: 2025-02-04 10:00:11 -0500 (Tue, 04 Feb 2025) EndedAt: 2025-02-04 10:10:44 -0500 (Tue, 04 Feb 2025) EllapsedTime: 633.1 seconds RetCode: 0 Status: OK CheckDir: seqArchR.Rcheck Warnings: 0